BEGIN:VCALENDAR
PRODID:-//eluceo/ical//2.0/EN
VERSION:2.0
CALSCALE:GREGORIAN
BEGIN:VEVENT
UID:ed44227acb6d384449ee602d6c2e7ec9
DTSTAMP:20260420T062546Z
SUMMARY:JFGN Game Time
DESCRIPTION:Jewish Federation of Greater Naples\nCommunity Calendar\nhttps:
 //jewishnaples.org/calendar/jfgn-game-time-1648740169\n\nGame time at the 
 Federation
DTSTART;TZID=America/New_York:20220420T100000
DTEND;TZID=America/New_York:20220420T113000
END:VEVENT
END:VCALENDAR
