BEGIN:VCALENDAR
PRODID:-//eluceo/ical//2.0/EN
VERSION:2.0
CALSCALE:GREGORIAN
BEGIN:VEVENT
UID:3b9095f0f8867dc82fe1f803c5c9e83b
DTSTAMP:20260421T021609Z
SUMMARY:JFGN Gala - Power of Community
DESCRIPTION:Jewish Federation of Greater Naples\nCommunity Calendar\nhttps:
 //jewishnaples.org/calendar/jfgn-gala---power-of-community-1526658602\n\nJ
 FGN Gala - Power of Community\n\nTime and location TDB
DTSTART;TZID=America/New_York:20190331T120000
DTEND;TZID=America/New_York:20190331T140000
END:VEVENT
END:VCALENDAR
