BEGIN:VCALENDAR
PRODID:-//eluceo/ical//2.0/EN
VERSION:2.0
CALSCALE:GREGORIAN
BEGIN:VEVENT
UID:46d7b9b7b6c8acacbed71ec26ee989e0
DTSTAMP:20260422T073701Z
SUMMARY:JFGN FIBA virtual Connection to Innovation
DESCRIPTION:Jewish Federation of Greater Naples\nCommunity Calendar\nhttps:
 //jewishnaples.org/calendar/jfgn-fiba-virtual-connection-to-innovation-162
 0227217\n\nFlorida-Israel Business Accelerator At this event\, we will fea
 ture three to four Israeli companies with innovative technology solutions 
 in the digital health space. We will also discuss how one of our industry 
 partners\, Tampa General Hospital\, has been able to apply these solutions
  within their operation.
DTSTART;TZID=America/New_York:20210623T120000
DTEND;TZID=America/New_York:20210623T130000
END:VEVENT
END:VCALENDAR
