BEGIN:VCALENDAR
PRODID:-//eluceo/ical//2.0/EN
VERSION:2.0
CALSCALE:GREGORIAN
BEGIN:VEVENT
UID:416e8c4a85a4b9e61ce5faa646854c6c
DTSTAMP:20260423T092936Z
SUMMARY:JFGN Federation Shabbat at JCMI
DESCRIPTION:Jewish Federation of Greater Naples\nCommunity Calendar\nhttps:
 //jewishnaples.org/calendar/jfgn-federation-shabbat-at-jcmi-1646340751\n\n
 Join us at JCMI for a Federation Shabbat
DTSTART;TZID=America/New_York:20230217T190000
DTEND;TZID=America/New_York:20230217T210000
END:VEVENT
END:VCALENDAR
