BEGIN:VCALENDAR
PRODID:-//eluceo/ical//2.0/EN
VERSION:2.0
CALSCALE:GREGORIAN
BEGIN:VEVENT
UID:954d4255373f8e63a12491bcd1addc32
DTSTAMP:20260423T214054Z
SUMMARY:JFGN Federation Shabbat at Chabad
DESCRIPTION:Jewish Federation of Greater Naples\nCommunity Calendar\nhttps:
 //jewishnaples.org/calendar/jfgn-federation-shabbat-at-chabad-1560867954\n
 \nJoin us for Shabbat at Chabad
DTSTART;TZID=America/New_York:20200208T100000
DTEND;TZID=America/New_York:20200208T120000
END:VEVENT
END:VCALENDAR
