BEGIN:VCALENDAR
PRODID:-//eluceo/ical//2.0/EN
VERSION:2.0
CALSCALE:GREGORIAN
BEGIN:VEVENT
UID:bacd3ee91ba49b01a879b13903fc8439
DTSTAMP:20260422T011530Z
SUMMARY:JFGN Federation Golf Tournament\, Fed Cup
DESCRIPTION:Jewish Federation of Greater Naples\nCommunity Calendar\nhttps:
 //jewishnaples.org/calendar/jfgn-federation-golf-tournament-fed-cup-158981
 0574\n\nJewish Federation of Greater Naples\nFederation Golf Tournament
DTSTART;TZID=America/New_York:20211019T080000
DTEND;TZID=America/New_York:20211019T150000
END:VEVENT
END:VCALENDAR
