BEGIN:VCALENDAR
PRODID:-//eluceo/ical//2.0/EN
VERSION:2.0
CALSCALE:GREGORIAN
BEGIN:VEVENT
UID:59daec4c371a91a47083bc11eb60df52
DTSTAMP:20260423T112916Z
SUMMARY:JFGN Exec Meeting March 30
DESCRIPTION:Jewish Federation of Greater Naples\nCommunity Calendar\nhttps:
 //jewishnaples.org/calendar/jfgn-exec-meeting-march-30-1658858985\n\nJFGN
DTSTART;TZID=America/New_York:20230330T093000
DTEND;TZID=America/New_York:20230330T113000
END:VEVENT
END:VCALENDAR
