BEGIN:VCALENDAR
PRODID:-//eluceo/ical//2.0/EN
VERSION:2.0
CALSCALE:GREGORIAN
BEGIN:VEVENT
UID:e230cdaeef70f38053a3cf889f5b0b98
DTSTAMP:20260420T155250Z
SUMMARY:JFGN Event
DESCRIPTION:Jewish Federation of Greater Naples\nCommunity Calendar\nhttps:
 //jewishnaples.org/calendar/jfgn-event-1662746724\n\nJFGN
DTSTART;TZID=America/New_York:20230208T160000
DTEND;TZID=America/New_York:20230208T210000
END:VEVENT
END:VCALENDAR
