BEGIN:VCALENDAR
PRODID:-//eluceo/ical//2.0/EN
VERSION:2.0
CALSCALE:GREGORIAN
BEGIN:VEVENT
UID:751716f6a66f94e654beb848072871b4
DTSTAMP:20260420T202826Z
SUMMARY:JFGN Power of Community Celebration
DESCRIPTION:Jewish Federation of Greater Naples\nCommunity Calendar\nhttps:
 //jewishnaples.org/calendar/jfgn-event-1634843426\n\nPower of Community Ce
 lebration
DTSTART;TZID=America/New_York:20220329T183000
DTEND;TZID=America/New_York:20220329T213000
END:VEVENT
END:VCALENDAR
