BEGIN:VCALENDAR
PRODID:-//eluceo/ical//2.0/EN
VERSION:2.0
CALSCALE:GREGORIAN
BEGIN:VEVENT
UID:ecfb10bbad63b8fa13e3b6e276ff7e6d
DTSTAMP:20260422T190957Z
SUMMARY:JFGN Lion of Judah Reception
DESCRIPTION:Jewish Federation of Greater Naples\nCommunity Calendar\nhttps:
 //jewishnaples.org/calendar/jfgn-event-1623353428\n\nJFGN Lion of Judah Re
 ception
DTSTART;TZID=America/New_York:20220104T183000
DTEND;TZID=America/New_York:20220104T210000
END:VEVENT
END:VCALENDAR
