BEGIN:VCALENDAR
PRODID:-//eluceo/ical//2.0/EN
VERSION:2.0
CALSCALE:GREGORIAN
BEGIN:VEVENT
UID:aaa5550ee61e8afebcdd1fe7df077fb6
DTSTAMP:20260423T102845Z
SUMMARY:JFGN Event
DESCRIPTION:Jewish Federation of Greater Naples\nCommunity Calendar\nhttps:
 //jewishnaples.org/calendar/jfgn-event\n\nJFGN  Event
DTSTART;TZID=America/New_York:20211118T190000
DTEND;TZID=America/New_York:20211118T210000
END:VEVENT
END:VCALENDAR
