BEGIN:VCALENDAR
PRODID:-//eluceo/ical//2.0/EN
VERSION:2.0
CALSCALE:GREGORIAN
BEGIN:VEVENT
UID:af4841c818ffe4b7ee84327372e36d8f
DTSTAMP:20260420T030540Z
SUMMARY:JFGN Education in the Face of a Pandemic
DESCRIPTION:Jewish Federation of Greater Naples\nCommunity Calendar\nhttps:
 //jewishnaples.org/calendar/jfgn-education-in-the-face-of-a-pandemic-15945
 50943\n\nEducation in the Face of a Pandemic\n\nIt starts at 3 PM.\nPlease
  register.
DTSTART;TZID=America/New_York:20200806T150000
DTEND;TZID=America/New_York:20200806T163000
END:VEVENT
END:VCALENDAR
