BEGIN:VCALENDAR
PRODID:-//eluceo/ical//2.0/EN
VERSION:2.0
CALSCALE:GREGORIAN
BEGIN:VEVENT
UID:8f774ca922cd7fdf47f49ea3cf7fdb0d
DTSTAMP:20260422T010312Z
SUMMARY:JFGN Dr. DeNigris Presentation
DESCRIPTION:Jewish Federation of Greater Naples\nCommunity Calendar\nhttps:
 //jewishnaples.org/calendar/jfgn-dr-denigris-presentation-1618495934\n\nJF
 GN program. Please register
DTSTART;TZID=America/New_York:20210616T180000
DTEND;TZID=America/New_York:20210616T190000
END:VEVENT
END:VCALENDAR
