BEGIN:VCALENDAR
PRODID:-//eluceo/ical//2.0/EN
VERSION:2.0
CALSCALE:GREGORIAN
BEGIN:VEVENT
UID:ab33f1ae052c12f687bbb3fae3263610
DTSTAMP:20260422T015510Z
SUMMARY:JFGN Dead Sea Presentation
DESCRIPTION:Jewish Federation of Greater Naples\nCommunity Calendar\nhttps:
 //jewishnaples.org/calendar/jfgn-dead-sea-presentation\n\nThe Life and Dea
 th of the Dead Sea\n\nBy: Prof. Shay Rabineau\, Department of Judaic Studi
 es\, Binghamton University\n\n \n\n \n\n \n\nOn Monday\, March 18\, Pro
 f. Shay Rabineau from the Center for Israel Studies at Binghamton Universi
 ty will give a talk entitled “The Life and Death of the Dead Sea.” \n
 \n \n\nIn 2022\, Rabineau organized the second-ever trek that circled the
  Dead Sea on foot. During the two-week trek\, he walked through Jordan\, I
 srael\, and the West Bank in an effort to bet...
DTSTART;TZID=America/New_York:20240318T140000
DTEND;TZID=America/New_York:20240318T150000
END:VEVENT
END:VCALENDAR
