BEGIN:VCALENDAR
PRODID:-//eluceo/ical//2.0/EN
VERSION:2.0
CALSCALE:GREGORIAN
BEGIN:VEVENT
UID:bd4407d6976785e23d57585b4219fa40
DTSTAMP:20260420T122622Z
SUMMARY:JFGN Community Yom Ha'atzmaut
DESCRIPTION:Jewish Federation of Greater Naples\nCommunity Calendar\nhttps:
 //jewishnaples.org/calendar/jfgn-community-yom-haatzmaut-1595603430\n\nJFG
 N\nCommunity Wide Yom Ha'atzmaut Program
DTSTART;TZID=America/New_York:20210419T120000
DTEND;TZID=America/New_York:20210419T130000
END:VEVENT
END:VCALENDAR
