BEGIN:VCALENDAR
PRODID:-//eluceo/ical//2.0/EN
VERSION:2.0
CALSCALE:GREGORIAN
BEGIN:VEVENT
UID:dc291841239dc161ed19795e0a07ab47
DTSTAMP:20260422T234332Z
SUMMARY:JFGN Community Wide Chanukah Celebration
DESCRIPTION:Jewish Federation of Greater Naples\nCommunity Calendar\nhttps:
 //jewishnaples.org/calendar/jfgn-community-wide-chanukah-celebration-16960
 06962\n\nJoin us at Mercato for Chanukah time!\nMusic\, food and more.\nFr
 ee event for all
DTSTART;TZID=America/New_York:20241226T170000
DTEND;TZID=America/New_York:20241226T180000
END:VEVENT
END:VCALENDAR
