BEGIN:VCALENDAR
PRODID:-//eluceo/ical//2.0/EN
VERSION:2.0
CALSCALE:GREGORIAN
BEGIN:VEVENT
UID:c3e3835dfa2d57d524d43249b973abfb
DTSTAMP:20260424T150008Z
SUMMARY:JFGN closes early
DESCRIPTION:Jewish Federation of Greater Naples\nCommunity Calendar\nhttps:
 //jewishnaples.org/calendar/jfgn-closes-early-1628007726\n\nHappy Passover
DTSTART;TZID=America/New_York:20220415T080000
DTEND;TZID=America/New_York:20220415T120000
END:VEVENT
END:VCALENDAR
