BEGIN:VCALENDAR
PRODID:-//eluceo/ical//2.0/EN
VERSION:2.0
CALSCALE:GREGORIAN
BEGIN:VEVENT
UID:eb4d9e835121c690beeff78343b4c7f8
DTSTAMP:20260424T011219Z
SUMMARY:JFGN closes early
DESCRIPTION:Jewish Federation of Greater Naples\nCommunity Calendar\nhttps:
 //jewishnaples.org/calendar/jfgn-closes-early-1585147895\n\nJFGN closes at
  noon
DTSTART;TZID=America/New_York:20201002T120000
DTEND;TZID=America/New_York:20201002T120000
END:VEVENT
END:VCALENDAR
