BEGIN:VCALENDAR
PRODID:-//eluceo/ical//2.0/EN
VERSION:2.0
CALSCALE:GREGORIAN
BEGIN:VEVENT
UID:450d160eb52768056deaa1524eea1ee0
DTSTAMP:20260420T141705Z
SUMMARY:JFGN closes at noon due to holiday
DESCRIPTION:Jewish Federation of Greater Naples\nCommunity Calendar\nhttps:
 //jewishnaples.org/calendar/jfgn-closes-at-noon-due-to-holiday-1559757763\
 n\nOffices will close at 12 noon
DTSTART;TZID=America/New_York:20191008T120000
DTEND;TZID=America/New_York:20191008T170000
END:VEVENT
END:VCALENDAR
