BEGIN:VCALENDAR
PRODID:-//eluceo/ical//2.0/EN
VERSION:2.0
CALSCALE:GREGORIAN
BEGIN:VEVENT
UID:261afd1a3175661f08eeeee497656f4c
DTSTAMP:20260424T063902Z
SUMMARY:JFGN Closes at noon
DESCRIPTION:Jewish Federation of Greater Naples\nCommunity Calendar\nhttps:
 //jewishnaples.org/calendar/jfgn-closes-at-noon-1617998880\n\nJFGN closes 
 at noon
DTSTART;TZID=America/New_York:20210915T120000
DTEND;TZID=America/New_York:20210915T170000
END:VEVENT
END:VCALENDAR
