BEGIN:VCALENDAR
PRODID:-//eluceo/ical//2.0/EN
VERSION:2.0
CALSCALE:GREGORIAN
BEGIN:VEVENT
UID:a5a4eb82de8aebc789ffef1cbb042bdd
DTSTAMP:20260422T012337Z
SUMMARY:JFGN closes at 3
DESCRIPTION:Jewish Federation of Greater Naples\nCommunity Calendar\nhttps:
 //jewishnaples.org/calendar/jfgn-closes-at-3-1663702090\n\nJFGN closes at 
 3 pm
DTSTART;TZID=America/New_York:20221004T150000
DTEND;TZID=America/New_York:20221004T150500
END:VEVENT
END:VCALENDAR
