BEGIN:VCALENDAR
PRODID:-//eluceo/ical//2.0/EN
VERSION:2.0
CALSCALE:GREGORIAN
BEGIN:VEVENT
UID:b085d82193556faeb3d37fd4638adf90
DTSTAMP:20260423T050826Z
SUMMARY:JFGN closed Simchat Torah
DESCRIPTION:Jewish Federation of Greater Naples\nCommunity Calendar\nhttps:
 //jewishnaples.org/calendar/jfgn-closed-simchat-torah-1682020757\n\nJFGN c
 losed
DTSTART;TZID=America/New_York:20231008T080000
DTEND;TZID=America/New_York:20231008T150000
END:VEVENT
END:VCALENDAR
