BEGIN:VCALENDAR
PRODID:-//eluceo/ical//2.0/EN
VERSION:2.0
CALSCALE:GREGORIAN
BEGIN:VEVENT
UID:6d9a49fe5bd5329cb709a245f6e7f0a9
DTSTAMP:20260424T024004Z
SUMMARY:JFGN Closed on Jan. 2
DESCRIPTION:Jewish Federation of Greater Naples\nCommunity Calendar\nhttps:
 //jewishnaples.org/calendar/jfgn-closed-on-jan-2-1669910576\n\nJFGN Closed
DTSTART;TZID=America/New_York:20230102T080000
DTEND;TZID=America/New_York:20230102T170000
END:VEVENT
END:VCALENDAR
