BEGIN:VCALENDAR
PRODID:-//eluceo/ical//2.0/EN
VERSION:2.0
CALSCALE:GREGORIAN
BEGIN:VEVENT
UID:6c0860edc6743aecbdaa76675e336f0c
DTSTAMP:20260422T025130Z
SUMMARY:JFGN Closed for Thanksgiving
DESCRIPTION:Jewish Federation of Greater Naples\nCommunity Calendar\nhttps:
 //jewishnaples.org/calendar/jfgn-closed-for-thanksgiving-1682086024\n\nClo
 sed Nov 28-Dec 1 for Thanksgiving
DTSTART;TZID=America/New_York:20241128T080000
DTEND;TZID=America/New_York:20241201T220000
END:VEVENT
END:VCALENDAR
