BEGIN:VCALENDAR
PRODID:-//eluceo/ical//2.0/EN
VERSION:2.0
CALSCALE:GREGORIAN
BEGIN:VEVENT
UID:cf91fe90d43f86e5dae457d6d7e4ead1
DTSTAMP:20260422T181400Z
SUMMARY:JFGN Closed for Thanksgiving
DESCRIPTION:Jewish Federation of Greater Naples\nCommunity Calendar\nhttps:
 //jewishnaples.org/calendar/jfgn-closed-for-thanksgiving-1682021016\n\nJFG
 N Closed for Thanksgiving
DTSTART;TZID=America/New_York:20231123T080000
DTEND;TZID=America/New_York:20231126T200000
END:VEVENT
END:VCALENDAR
