BEGIN:VCALENDAR
PRODID:-//eluceo/ical//2.0/EN
VERSION:2.0
CALSCALE:GREGORIAN
BEGIN:VEVENT
UID:e61ef4238fc52d9a0ad4d68006b80808
DTSTAMP:20260423T201944Z
SUMMARY:JFGN Closed for Sukkot
DESCRIPTION:Jewish Federation of Greater Naples\nCommunity Calendar\nhttps:
 //jewishnaples.org/calendar/jfgn-closed-for-sukkot-1682085857\n\nClosed fo
 r Sukkot
DTSTART;TZID=America/New_York:20241017T080000
DTEND;TZID=America/New_York:20241018T220000
END:VEVENT
END:VCALENDAR
