BEGIN:VCALENDAR
PRODID:-//eluceo/ical//2.0/EN
VERSION:2.0
CALSCALE:GREGORIAN
BEGIN:VEVENT
UID:2e6f1d30ec8cc3252fe1067b72cace9d
DTSTAMP:20260424T011516Z
SUMMARY:JFGN Closed for Sukkot
DESCRIPTION:Jewish Federation of Greater Naples\nCommunity Calendar\nhttps:
 //jewishnaples.org/calendar/jfgn-closed-for-sukkot-1682020591\n\nJFGN clos
 ed for Sukkot
DTSTART;TZID=America/New_York:20231001T083500
DTEND;TZID=America/New_York:20231001T220000
END:VEVENT
END:VCALENDAR
