BEGIN:VCALENDAR
PRODID:-//eluceo/ical//2.0/EN
VERSION:2.0
CALSCALE:GREGORIAN
BEGIN:VEVENT
UID:33e749888c504d082b804d4f62075e3a
DTSTAMP:20260424T054556Z
SUMMARY:JFGN closed for Shmini Atzeret and Simchat Torah
DESCRIPTION:Jewish Federation of Greater Naples\nCommunity Calendar\nhttps:
 //jewishnaples.org/calendar/jfgn-closed-for-shmini-atzeret-and-simchat-tor
 ah-1682085898\n\nClosed
DTSTART;TZID=America/New_York:20241024T080000
DTEND;TZID=America/New_York:20241025T220000
END:VEVENT
END:VCALENDAR
