BEGIN:VCALENDAR
PRODID:-//eluceo/ical//2.0/EN
VERSION:2.0
CALSCALE:GREGORIAN
BEGIN:VEVENT
UID:0cbeb0179b7cd2c2e7b5f9d4ef5df2bf
DTSTAMP:20260421T021209Z
SUMMARY:JFGN Closed for Passover
DESCRIPTION:Jewish Federation of Greater Naples\nCommunity Calendar\nhttps:
 //jewishnaples.org/calendar/jfgn-closed-for-passover-1616090649\n\nClosed 
 for Passover
DTSTART;TZID=America/New_York:20210329T070000
DTEND;TZID=America/New_York:20210329T190000
END:VEVENT
END:VCALENDAR
