BEGIN:VCALENDAR
PRODID:-//eluceo/ical//2.0/EN
VERSION:2.0
CALSCALE:GREGORIAN
BEGIN:VEVENT
UID:70788f2ce5a7a59582ee06d39fe2b898
DTSTAMP:20260423T102419Z
SUMMARY:JFGN Closed for Labor Day
DESCRIPTION:Jewish Federation of Greater Naples\nCommunity Calendar\nhttps:
 //jewishnaples.org/calendar/jfgn-closed-for-labor-day-1682018997\n\nClosed
  for Labor Day
DTSTART;TZID=America/New_York:20230904T080000
DTEND;TZID=America/New_York:20230904T200000
END:VEVENT
END:VCALENDAR
