BEGIN:VCALENDAR
PRODID:-//eluceo/ical//2.0/EN
VERSION:2.0
CALSCALE:GREGORIAN
BEGIN:VEVENT
UID:aefef1bf9177b1bdc3dc6583200abaee
DTSTAMP:20260422T032236Z
SUMMARY:JFGN Closed for Labor Day
DESCRIPTION:Jewish Federation of Greater Naples\nCommunity Calendar\nhttps:
 //jewishnaples.org/calendar/jfgn-closed-for-labor-day-1661263758\n\nJFGN
DTSTART;TZID=America/New_York:20220905T090000
DTEND;TZID=America/New_York:20220905T170000
END:VEVENT
END:VCALENDAR
