BEGIN:VCALENDAR
PRODID:-//eluceo/ical//2.0/EN
VERSION:2.0
CALSCALE:GREGORIAN
BEGIN:VEVENT
UID:aa6a3a86e533f713f49ff810f7f08c85
DTSTAMP:20260420T131910Z
SUMMARY:JFGN closed for Labor Day
DESCRIPTION:Jewish Federation of Greater Naples\nCommunity Calendar\nhttps:
 //jewishnaples.org/calendar/jfgn-closed-for-labor-day-1599581428\n\nClosed
  for Legal Holiday of Labor Day
DTSTART;TZID=America/New_York:20210906T080000
DTEND;TZID=America/New_York:20210906T170000
END:VEVENT
END:VCALENDAR
