BEGIN:VCALENDAR
PRODID:-//eluceo/ical//2.0/EN
VERSION:2.0
CALSCALE:GREGORIAN
BEGIN:VEVENT
UID:a148b97582c7820525157fd1283ce660
DTSTAMP:20260421T235158Z
SUMMARY:JFGN Closed for Christmas
DESCRIPTION:Jewish Federation of Greater Naples\nCommunity Calendar\nhttps:
 //jewishnaples.org/calendar/jfgn-closed-for-christmas-1682086212\n\nClosed
DTSTART;TZID=America/New_York:20241225T080000
DTEND;TZID=America/New_York:20241225T220000
END:VEVENT
END:VCALENDAR
