BEGIN:VCALENDAR
PRODID:-//eluceo/ical//2.0/EN
VERSION:2.0
CALSCALE:GREGORIAN
BEGIN:VEVENT
UID:401979aa7751bd6010d84f376c614ea1
DTSTAMP:20260424T073943Z
SUMMARY:JFGN Closed for Christmas
DESCRIPTION:Jewish Federation of Greater Naples\nCommunity Calendar\nhttps:
 //jewishnaples.org/calendar/jfgn-closed-for-christmas-1682021223\n\nJFGN C
 losed
DTSTART;TZID=America/New_York:20231225T080000
DTEND;TZID=America/New_York:20231225T210000
END:VEVENT
END:VCALENDAR
