BEGIN:VCALENDAR
PRODID:-//eluceo/ical//2.0/EN
VERSION:2.0
CALSCALE:GREGORIAN
BEGIN:VEVENT
UID:f06766b4a2f78650dfb2d8dc711e5592
DTSTAMP:20260422T231745Z
SUMMARY:JFGN Closed due to Holiday
DESCRIPTION:Jewish Federation of Greater Naples\nCommunity Calendar\nhttps:
 //jewishnaples.org/calendar/jfgn-closed-due-to-holiday-1561142776\n\nJFGN 
 closed
DTSTART;TZID=America/New_York:20200525T144500
DTEND;TZID=America/New_York:20200525T235900
END:VEVENT
END:VCALENDAR
