BEGIN:VCALENDAR
PRODID:-//eluceo/ical//2.0/EN
VERSION:2.0
CALSCALE:GREGORIAN
BEGIN:VEVENT
UID:3fdfea2353a7587862c2275e2f870c43
DTSTAMP:20260422T231755Z
SUMMARY:JFGN Closed due to holiday
DESCRIPTION:Jewish Federation of Greater Naples\nCommunity Calendar\nhttps:
 //jewishnaples.org/calendar/jfgn-closed-due-to-holiday-1559831480\n\nOffic
 es closed
DTSTART;TZID=America/New_York:20191014T080000
DTEND;TZID=America/New_York:20191014T170000
END:VEVENT
END:VCALENDAR
