BEGIN:VCALENDAR
PRODID:-//eluceo/ical//2.0/EN
VERSION:2.0
CALSCALE:GREGORIAN
BEGIN:VEVENT
UID:d4202adea6b02cd102ba1be6d25f6427
DTSTAMP:20260420T182545Z
SUMMARY:JFGN Closed due to holiday
DESCRIPTION:Jewish Federation of Greater Naples\nCommunity Calendar\nhttps:
 //jewishnaples.org/calendar/jfgn-closed-due-to-holiday-1559756497\n\nOffic
 es closed
DTSTART;TZID=America/New_York:20190902T080000
DTEND;TZID=America/New_York:20190902T170000
END:VEVENT
END:VCALENDAR
