BEGIN:VCALENDAR
PRODID:-//eluceo/ical//2.0/EN
VERSION:2.0
CALSCALE:GREGORIAN
BEGIN:VEVENT
UID:a83d58a7600620e101587c52bf20f4ee
DTSTAMP:20260420T164043Z
SUMMARY:JFGN Closed due to Holiday
DESCRIPTION:Jewish Federation of Greater Naples\nCommunity Calendar\nhttps:
 //jewishnaples.org/calendar/jfgn-closed-due-to-holiday-1534785585\n\nOffic
 e is closed.
DTSTART;TZID=America/New_York:20180903T080000
DTEND;TZID=America/New_York:20180903T235959
END:VEVENT
END:VCALENDAR
