BEGIN:VCALENDAR
PRODID:-//eluceo/ical//2.0/EN
VERSION:2.0
CALSCALE:GREGORIAN
BEGIN:VEVENT
UID:89b81e5b57baca34fad5bf6ea37ad4d2
DTSTAMP:20260420T122543Z
SUMMARY:JFGN Closed due to Holiday
DESCRIPTION:Jewish Federation of Greater Naples\nCommunity Calendar\nhttps:
 //jewishnaples.org/calendar/jfgn-closed-due-to-holiday-1534772938\n\nOffic
 es are closed.
DTSTART;TZID=America/New_York:20190609T080000
DTEND;TZID=America/New_York:20190609T235959
END:VEVENT
END:VCALENDAR
