BEGIN:VCALENDAR
PRODID:-//eluceo/ical//2.0/EN
VERSION:2.0
CALSCALE:GREGORIAN
BEGIN:VEVENT
UID:f5b385547ffd977def10a84fd448c782
DTSTAMP:20260420T160303Z
SUMMARY:JFGN Closed due to Holiday
DESCRIPTION:Jewish Federation of Greater Naples\nCommunity Calendar\nhttps:
 //jewishnaples.org/calendar/jfgn-closed-due-to-holiday-1534772796\n\nOffic
 es are closed.
DTSTART;TZID=America/New_York:20190427T080000
DTEND;TZID=America/New_York:20190427T235959
END:VEVENT
END:VCALENDAR
