BEGIN:VCALENDAR
PRODID:-//eluceo/ical//2.0/EN
VERSION:2.0
CALSCALE:GREGORIAN
BEGIN:VEVENT
UID:3443f381aa6096c7ff5ccc2d1bc05ac8
DTSTAMP:20260422T221805Z
SUMMARY:JFGN Closed due to Holiday
DESCRIPTION:Jewish Federation of Greater Naples\nCommunity Calendar\nhttps:
 //jewishnaples.org/calendar/jfgn-closed-due-to-holiday-1534772736\n\nOffic
 es are closed.
DTSTART;TZID=America/New_York:20190426T080000
DTEND;TZID=America/New_York:20190426T235959
END:VEVENT
END:VCALENDAR
