BEGIN:VCALENDAR
PRODID:-//eluceo/ical//2.0/EN
VERSION:2.0
CALSCALE:GREGORIAN
BEGIN:VEVENT
UID:bacd7151329d3902fac4df2d4306c20f
DTSTAMP:20260422T025148Z
SUMMARY:JFGN Closed due to Holiday
DESCRIPTION:Jewish Federation of Greater Naples\nCommunity Calendar\nhttps:
 //jewishnaples.org/calendar/jfgn-closed-due-to-holiday-1534772501\n\nOffic
 es are closed.
DTSTART;TZID=America/New_York:20181123T080000
DTEND;TZID=America/New_York:20181123T235959
END:VEVENT
END:VCALENDAR
