BEGIN:VCALENDAR
PRODID:-//eluceo/ical//2.0/EN
VERSION:2.0
CALSCALE:GREGORIAN
BEGIN:VEVENT
UID:29e279ecb752b1402eef4b45840d3806
DTSTAMP:20260423T103857Z
SUMMARY:JFGN Closed due to Holiday
DESCRIPTION:Jewish Federation of Greater Naples\nCommunity Calendar\nhttps:
 //jewishnaples.org/calendar/jfgn-closed-due-to-holiday-1534772457\n\nOffic
 es are closed.
DTSTART;TZID=America/New_York:20181122T080000
DTEND;TZID=America/New_York:20181122T235959
END:VEVENT
END:VCALENDAR
