BEGIN:VCALENDAR
PRODID:-//eluceo/ical//2.0/EN
VERSION:2.0
CALSCALE:GREGORIAN
BEGIN:VEVENT
UID:ed69147a76fe7ee701d3f501057cc33c
DTSTAMP:20260423T094346Z
SUMMARY:JFGN Closed at Noon Rosh Hashana
DESCRIPTION:Jewish Federation of Greater Naples\nCommunity Calendar\nhttps:
 //jewishnaples.org/calendar/jfgn-closed-at-noon-rosh-hashana-1682085399\n\
 nClose at noon
DTSTART;TZID=America/New_York:20241002T120000
DTEND;TZID=America/New_York:20241002T220000
END:VEVENT
END:VCALENDAR
