BEGIN:VCALENDAR
PRODID:-//eluceo/ical//2.0/EN
VERSION:2.0
CALSCALE:GREGORIAN
BEGIN:VEVENT
UID:35e90465caf5ad137e03a509590be4a1
DTSTAMP:20260424T043554Z
SUMMARY:JFGN Closed April 6 & 7
DESCRIPTION:Jewish Federation of Greater Naples\nCommunity Calendar\nhttps:
 //jewishnaples.org/calendar/jfgn-closed-april-6--7-1661273037\n\nJFGN Clos
 ed
DTSTART;TZID=America/New_York:20230406T080000
DTEND;TZID=America/New_York:20230407T170000
END:VEVENT
END:VCALENDAR
