BEGIN:VCALENDAR
PRODID:-//eluceo/ical//2.0/EN
VERSION:2.0
CALSCALE:GREGORIAN
BEGIN:VEVENT
UID:e5be7822acb5338aaee0b147b41d320e
DTSTAMP:20260422T001041Z
SUMMARY:JFGN Closed
DESCRIPTION:Jewish Federation of Greater Naples\nCommunity Calendar\nhttps:
 //jewishnaples.org/calendar/jfgn-closed-1740226376\n\nJFGN Closed
DTSTART;TZID=America/New_York:20260216T070000
DTEND;TZID=America/New_York:20260216T210000
END:VEVENT
END:VCALENDAR
