BEGIN:VCALENDAR
PRODID:-//eluceo/ical//2.0/EN
VERSION:2.0
CALSCALE:GREGORIAN
BEGIN:VEVENT
UID:7fde16138decdfc1ff92d3fc0fef695d
DTSTAMP:20260420T061130Z
SUMMARY:JFGN Closed
DESCRIPTION:Jewish Federation of Greater Naples\nCommunity Calendar\nhttps:
 //jewishnaples.org/calendar/jfgn-closed-1740225206\n\nJFGN Closed
DTSTART;TZID=America/New_York:20251015T080000
DTEND;TZID=America/New_York:20251015T210000
END:VEVENT
END:VCALENDAR
