BEGIN:VCALENDAR
PRODID:-//eluceo/ical//2.0/EN
VERSION:2.0
CALSCALE:GREGORIAN
BEGIN:VEVENT
UID:a760051b8db953bf03a3425be06db2ef
DTSTAMP:20260422T204045Z
SUMMARY:JFGN Closed
DESCRIPTION:Jewish Federation of Greater Naples\nCommunity Calendar\nhttps:
 //jewishnaples.org/calendar/jfgn-closed-1740221209\n\nJFGN Closed
DTSTART;TZID=America/New_York:20250924T080000
DTEND;TZID=America/New_York:20250924T220000
END:VEVENT
END:VCALENDAR
