BEGIN:VCALENDAR
PRODID:-//eluceo/ical//2.0/EN
VERSION:2.0
CALSCALE:GREGORIAN
BEGIN:VEVENT
UID:b5abe432741868376a0e6750b1ab9b4e
DTSTAMP:20260422T103830Z
SUMMARY:JFGN Closed
DESCRIPTION:Jewish Federation of Greater Naples\nCommunity Calendar\nhttps:
 //jewishnaples.org/calendar/jfgn-closed-1715036911\n\nClosed
DTSTART;TZID=America/New_York:20250419T070000
DTEND;TZID=America/New_York:20250420T220000
END:VEVENT
END:VCALENDAR
