BEGIN:VCALENDAR
PRODID:-//eluceo/ical//2.0/EN
VERSION:2.0
CALSCALE:GREGORIAN
BEGIN:VEVENT
UID:e6f4add15b18898fc390a23d5b11efd0
DTSTAMP:20260423T194655Z
SUMMARY:JFGN Closed
DESCRIPTION:Jewish Federation of Greater Naples\nCommunity Calendar\nhttps:
 //jewishnaples.org/calendar/jfgn-closed-1682085211\n\nClosed
DTSTART;TZID=America/New_York:20240704T090000
DTEND;TZID=America/New_York:20240704T210000
END:VEVENT
END:VCALENDAR
